Workbook

Sheet Atención Cliente
G1: RIESGO INHERENTE | M1: Valoración Riesgo Residual (Probabilidad) | AH1: Valoración Riesgo Residual (impacto) | BD1: Valor Riesgo Residual | BF1: PLAN DE TRATAMIENTO
A2: Proceso | B2: Clase | C2: Causas | D2: Riesgo | F2: Consecuencia | G2: Probabilidad | I2: Impacto | K2: Valor del Riesgo | M2: Controles preventivos | N2: Documento | Q2: Responsable | T2: Tipo (M/A) | V2: Fercuencia (Adecuada) | Y2: Evidencia | AB2: Efectividad | AD2: Valor Control | AE2: Puntos | AF2: Probabilidad | AG2: VP | AH2: Controles Correctivos | AI2: Documento | AL2: Responsable | AO2: Tipo (M/A) | AQ2: Fercuencia (Adecuada) | AT2: Evidencia | AW2: Efectividad | AY2: Valor Control | AZ2: Puntos | BA2: Objetivo Estratégico | BB2: Impacto | BC2: VI | BD2: V.Riesgo Actual | BE2: Z. Riesgo Actual | BF2: Acción | BH2: Responsable | BI2: Fecha Inicio | BJ2: Fecha Fin | BK2: Entregable
A3: Atención y servicio al cliente | B3: GESTIÓN | C3: 1. Desconocimiento de los tiempos límites de repuesta. 2. No tramitar en el momento justo de llegada del derecho de petición (radicado). 3. Falta de parametrización en el sistema cuando hay respuestas que superan los tiempos normativos. 4. Bajos niveles de información al peticionario sobre el trámite de las quejas con tiempos largos. 5. Desconocimiento del manejo de la herramienta de registro y seguimiento. 6. Mala distribución de la PQRD al interior de la Empresa. | D3: RGC-2 | E3: Vencimiento de términos en la atención de PQRD | F3: 1. Investigación disciplinaria. 2. Generación de tutelas 3. Impacto negativo en la imagen institucional | G3: Probable | H3: =IF(G3="","",VLOOKUP(G3,[1]Tablas!$A$2:$B$6,2,FALSE)) -> 4 | I3: Mayor | J3: =IF(I3="","",VLOOKUP(I3,[1]Tablas!$E$2:$F$6,2,FALSE)) -> 4 | K3: =IFERROR(VLOOKUP(L3,Tablas!$F$9:$G$22,2,FALSE),"") -> ALTA | L3: =IFERROR(+H3*J3,"") -> 16 | M3: Revisión diaria del estado de las PQRS en el sistema distrital de quejas y soluciones | N3: NO | O3: =IF(N3="SI",15,IF(N3="NO",0,"")) -> 0 | P3: No está documentado | Q3: SI | R3: =IF(Q3="SI",5,IF(Q3="NO",0,"")) -> 5 | S3: Profesional de Atención al Cliente | T3: Manual | U3: =IF(T3="Manual",10,IF(T3="Automático",15,"")) -> 10 | V3: SI | W3: =IF(V3="SI",15,IF(V3="NO",0,"")) -> 15 | X3: Diario | Y3: NO | Z3: =IF(Y3="SI",10,IF(Y3="NO",0,"")) -> 0 | AA3: No se genera evidencia | AB3: SI | AC3: =IF(AB3="SI",30,IF(AB3="NO",0,"")) -> 30 | AD3: =(MIN(O3:O7)+MIN(R3:R7)+MIN(U3:U7)+MIN(W3:W7)+MIN(Z3:Z7)+MIN(AC3:AC7)) -> 60 | AE3: =IF(AD3>=76,2,IF(AD3>=51,1,0)) -> 1 | AF3: =IF(AG3="","",VLOOKUP(AG3,Tablas!$B$2:$C$6,2,FALSE)) -> Posible | AG3: =IFERROR(+H3-AE3,"") -> 3 | AH3: Revisión diaria del estado de las PQRS en el sistema distrital de quejas y soluciones | AI3: NO | AJ3: =IF(AI3="SI",15,IF(AI3="NO",0,"")) -> 0 | AK3: No está documentado | AL3: SI | AM3: =IF(AL3="SI",5,IF(AL3="NO",0,"")) -> 5 | AN3: Profesional de Atención al Cliente | AO3: Manual | AP3: =IF(AO3="Manual",10,IF(AO3="Automático",15,"")) -> 10 | AQ3: NO | AR3: =IF(AQ3="SI",15,IF(AQ3="NO",0,"")) -> 0 | AS3: Diario | AT3: NO | AU3: =IF(AT3="SI",10,IF(AT3="NO",0,"")) -> 0 | AV3: No se genera evidencia | AW3: SI | AX3: =IF(AW3="SI",30,IF(AW3="NO",0,"")) -> 30 | AY3: =(MIN(AJ3:AJ7)+MIN(AM3:AM7)+MIN(AP3:AP7)+MIN(AR3:AR7)+MIN(AU3:AU7)+MIN(AX3:AX7)) -> 45 | AZ3: =IF(AY3>=76,2,IF(AY3>=51,1,0)) -> 0 | BA3: NO | BB3: =IF(BC3="","",VLOOKUP(BC3,Tablas!$F$2:$G$6,2,FALSE)) -> Mayor | BC3: =IFERROR(+J3-AZ3,"") -> 4 | BD3: =IFERROR(+BC3*AG3,"") -> 12 | BE3: =IFERROR(VLOOKUP(BD3,Tablas!$F$9:$G$22,2,FALSE),"") -> MEDIA | BF3: 1 | BG3: Actualizar e incorporar el control de revisión de estado de PQRS en el procedimiento respectivo | BH3: Atención al cliente | BI3: 43466 | BJ3: 43800 | BK3: Procedimiento
M4: Enviar un correo electrónico al área responsable sobre las PQRS por vencer (En estado rojo). | N4: NO | O4: =IF(N4="SI",15,IF(N4="NO",0,"")) -> 0 | P4: No está documentado | Q4: SI | R4: =IF(Q4="SI",5,IF(Q4="NO",0,"")) -> 5 | S4: Profesional de Atención al Cliente | T4: Manual | U4: =IF(T4="Manual",10,IF(T4="Automático",15,"")) -> 10 | V4: SI | W4: =IF(V4="SI",15,IF(V4="NO",0,"")) -> 15 | X4: Por demanda | Y4: SI | Z4: =IF(Y4="SI",10,IF(Y4="NO",0,"")) -> 10 | AA4: Correo electrónico | AB4: SI | AC4: =IF(AB4="SI",30,IF(AB4="NO",0,"")) -> 30 | AH4: Enviar un correo electrónico al área responsable sobre las PQRS por vencer (En estado Rojo). | AI4: NO | AJ4: =IF(AI4="SI",15,IF(AI4="NO",0,"")) -> 0 | AK4: No está documentado | AL4: SI | AM4: =IF(AL4="SI",5,IF(AL4="NO",0,"")) -> 5 | AN4: Profesional de Atención al Cliente | AO4: Manual | AP4: =IF(AO4="Manual",10,IF(AO4="Automático",15,"")) -> 10 | AQ4: NO | AR4: =IF(AQ4="SI",15,IF(AQ4="NO",0,"")) -> 0 | AS4: Por demanda | AT4: SI | AU4: =IF(AT4="SI",10,IF(AT4="NO",0,"")) -> 10 | AV4: Correo electrónico | AW4: SI | AX4: =IF(AW4="SI",30,IF(AW4="NO",0,"")) -> 30 | BF4: 2 | BG4: Socializar procedimiento y aspectos claves de las PQRS | BH4: Atención al cliente | BI4: 43466 | BJ4: 43800 | BK4: Piezas de comunicación Correo electrónico
O5: =IF(N5="SI",15,IF(N5="NO",0,"")) | R5: =IF(Q5="SI",5,IF(Q5="NO",0,"")) | U5: =IF(T5="Manual",10,IF(T5="Automático",15,"")) | W5: =IF(V5="SI",15,IF(V5="NO",0,"")) | Z5: =IF(Y5="SI",10,IF(Y5="NO",0,"")) | AC5: =IF(AB5="SI",30,IF(AB5="NO",0,"")) | AJ5: =IF(AI5="SI",15,IF(AI5="NO",0,"")) | AM5: =IF(AL5="SI",5,IF(AL5="NO",0,"")) | AP5: =IF(AO5="Manual",10,IF(AO5="Automático",15,"")) | AR5: =IF(AQ5="SI",15,IF(AQ5="NO",0,"")) | AU5: =IF(AT5="SI",10,IF(AT5="NO",0,"")) | AX5: =IF(AW5="SI",30,IF(AW5="NO",0,"")) | BF5: 3 | BG5: Definir perfiles y roles de todas las áreas en la Lotería para el sistema de PQRS - SDQS | BH5: Atención al cliente Directivos de cada área. | BI5: 43466 | BJ5: 43800 | BK5: Listado de usuarios por área
O6: =IF(N6="SI",15,IF(N6="NO",0,"")) | R6: =IF(Q6="SI",5,IF(Q6="NO",0,"")) | U6: =IF(T6="Manual",10,IF(T6="Automático",15,"")) | W6: =IF(V6="SI",15,IF(V6="NO",0,"")) | Z6: =IF(Y6="SI",10,IF(Y6="NO",0,"")) | AC6: =IF(AB6="SI",30,IF(AB6="NO",0,"")) | AJ6: =IF(AI6="SI",15,IF(AI6="NO",0,"")) | AM6: =IF(AL6="SI",5,IF(AL6="NO",0,"")) | AP6: =IF(AO6="Manual",10,IF(AO6="Automático",15,"")) | AR6: =IF(AQ6="SI",15,IF(AQ6="NO",0,"")) | AU6: =IF(AT6="SI",10,IF(AT6="NO",0,"")) | AX6: =IF(AW6="SI",30,IF(AW6="NO",0,"")) | BF6: 4 | BG6: Coordinar con la Alcaldía Capacitar al personal definido en los perfiles | BH6: Atención al cliente | BI6: 43466 | BJ6: 43800 | BK6: Lista de asistencia
O7: =IF(N7="SI",15,IF(N7="NO",0,"")) | R7: =IF(Q7="SI",5,IF(Q7="NO",0,"")) | U7: =IF(T7="Manual",10,IF(T7="Automático",15,"")) | W7: =IF(V7="SI",15,IF(V7="NO",0,"")) | Z7: =IF(Y7="SI",10,IF(Y7="NO",0,"")) | AC7: =IF(AB7="SI",30,IF(AB7="NO",0,"")) | AJ7: =IF(AI7="SI",15,IF(AI7="NO",0,"")) | AM7: =IF(AL7="SI",5,IF(AL7="NO",0,"")) | AP7: =IF(AO7="Manual",10,IF(AO7="Automático",15,"")) | AR7: =IF(AQ7="SI",15,IF(AQ7="NO",0,"")) | AU7: =IF(AT7="SI",10,IF(AT7="NO",0,"")) | AX7: =IF(AW7="SI",30,IF(AW7="NO",0,"")) | BF7: 5 | BI7: 43466 | BJ7: 43800
A8: Atención y servicio al cliente | B8: GESTIÓN | C8: 1. Ausencia de los funcionarios en las áreas a las que se dirigen las llamadas. 2. Mal direccionamiento de las llamadas por desconocimiento del tema que requiere el cliente. 3. Falta de cultura del personal de la Lotería en el enfoque de servicio. | D8: RGC-1 | E8: Bajo nivel en la atención de llamadas | F8: 1. Insatisfacción del cliente 2. Voz a voz del cliente insatisfecho que genera impacto negativo en la imagen institucional | G8: Casi seguro | H8: =IF(G8="","",VLOOKUP(G8,[1]Tablas!$A$2:$B$6,2,FALSE)) -> 5 | I8: Mayor | J8: =IF(I8="","",VLOOKUP(I8,[1]Tablas!$E$2:$F$6,2,FALSE)) -> 4 | K8: =IFERROR(VLOOKUP(L8,Tablas!$F$9:$G$22,2,FALSE),"") -> ALTA | L8: =IFERROR(+H8*J8,"") -> 20 | M8: Seguimiento mensual de la estadística de atención de llamadas para las áreas que tienen contacto con el cliente. | N8: SI | O8: =IF(N8="SI",15,IF(N8="NO",0,"")) -> 15 | P8: Cuadro de mando estratégico | Q8: SI | R8: =IF(Q8="SI",5,IF(Q8="NO",0,"")) -> 5 | S8: Áreas que tienen contacto con el cliente | T8: Manual | U8: =IF(T8="Manual",10,IF(T8="Automático",15,"")) -> 10 | V8: SI | W8: =IF(V8="SI",15,IF(V8="NO",0,"")) -> 15 | X8: Mensual | Y8: SI | Z8: =IF(Y8="SI",10,IF(Y8="NO",0,"")) -> 10 | AA8: Cuadro de mando estratégico | AB8: SI | AC8: =IF(AB8="SI",30,IF(AB8="NO",0,"")) -> 30 | AD8: =(MIN(O8:O12)+MIN(R8:R12)+MIN(U8:U12)+MIN(W8:W12)+MIN(Z8:Z12)+MIN(AC8:AC12)) -> 85 | AE8: =IF(AD8>=76,2,IF(AD8>=51,1,0)) -> 2 | AF8: =IF(AG8="","",VLOOKUP(AG8,Tablas!$B$2:$C$6,2,FALSE)) -> Posible | AG8: =IFERROR(+H8-AE8,"") -> 3 | AH8: Seguimiento mensual de la estadística de atención de llamadas para las áreas que tienen contacto con el cliente. | AI8: SI | AJ8: =IF(AI8="SI",15,IF(AI8="NO",0,"")) -> 15 | AK8: Cuadro de mando estratégico | AL8: SI | AM8: =IF(AL8="SI",5,IF(AL8="NO",0,"")) -> 5 | AN8: Áreas que tienen contacto con el cliente | AO8: Manual | AP8: =IF(AO8="Manual",10,IF(AO8="Automático",15,"")) -> 10 | AQ8: SI | AR8: =IF(AQ8="SI",15,IF(AQ8="NO",0,"")) -> 15 | AS8: Mensual | AT8: SI | AU8: =IF(AT8="SI",10,IF(AT8="NO",0,"")) -> 10 | AV8: Cuadro de mando estratégico | AW8: SI | AX8: =IF(AW8="SI",30,IF(AW8="NO",0,"")) -> 30 | AY8: =(MIN(AJ8:AJ12)+MIN(AM8:AM12)+MIN(AP8:AP12)+MIN(AR8:AR12)+MIN(AU8:AU12)+MIN(AX8:AX12)) -> 85 | AZ8: =IF(AY8>=76,2,IF(AY8>=51,1,0)) -> 2 | BA8: SI | BB8: =IF(BC8="","",VLOOKUP(BC8,Tablas!$F$2:$G$6,2,FALSE)) -> Menor | BC8: =IFERROR(+J8-AZ8,"") -> 2 | BD8: =IFERROR(+BC8*AG8,"") -> 6 | BE8: =IFERROR(VLOOKUP(BD8,Tablas!$F$9:$G$22,2,FALSE),"") -> MEDIA | BF8: 1 | BG8: Establecer políticas y lineamientos para fortalecer la atención de llamadas durante las ausencias cortas y prolongadas del personal en el área de Servicio al Cliente. | BH8: Atención al Cliente Gerencia General Planeación | BI8: 43466 | BJ8: 43800 | BK8: Políticas actualizadas
O9: =IF(N9="SI",15,IF(N9="NO",0,"")) | R9: =IF(Q9="SI",5,IF(Q9="NO",0,"")) | U9: =IF(T9="Manual",10,IF(T9="Automático",15,"")) | W9: =IF(V9="SI",15,IF(V9="NO",0,"")) | Z9: =IF(Y9="SI",10,IF(Y9="NO",0,"")) | AC9: =IF(AB9="SI",30,IF(AB9="NO",0,"")) | AJ9: =IF(AI9="SI",15,IF(AI9="NO",0,"")) | AM9: =IF(AL9="SI",5,IF(AL9="NO",0,"")) | AP9: =IF(AO9="Manual",10,IF(AO9="Automático",15,"")) | AR9: =IF(AQ9="SI",15,IF(AQ9="NO",0,"")) | AU9: =IF(AT9="SI",10,IF(AT9="NO",0,"")) | AX9: =IF(AW9="SI",30,IF(AW9="NO",0,"")) | BF9: 2 | BG9: Capacitar en el uso adecuado de los dispositivos telefónicos para el redireccionamiento de llamadas. | BH9: Sistemas | BI9: 43466 | BJ9: 43800 | BK9: Lista de asistencia
O10: =IF(N10="SI",15,IF(N10="NO",0,"")) | R10: =IF(Q10="SI",5,IF(Q10="NO",0,"")) | U10: =IF(T10="Manual",10,IF(T10="Automático",15,"")) | W10: =IF(V10="SI",15,IF(V10="NO",0,"")) | Z10: =IF(Y10="SI",10,IF(Y10="NO",0,"")) | AC10: =IF(AB10="SI",30,IF(AB10="NO",0,"")) | AJ10: =IF(AI10="SI",15,IF(AI10="NO",0,"")) | AM10: =IF(AL10="SI",5,IF(AL10="NO",0,"")) | AP10: =IF(AO10="Manual",10,IF(AO10="Automático",15,"")) | AR10: =IF(AQ10="SI",15,IF(AQ10="NO",0,"")) | AU10: =IF(AT10="SI",10,IF(AT10="NO",0,"")) | AX10: =IF(AW10="SI",30,IF(AW10="NO",0,"")) | BF10: 3
O11: =IF(N11="SI",15,IF(N11="NO",0,"")) | R11: =IF(Q11="SI",5,IF(Q11="NO",0,"")) | U11: =IF(T11="Manual",10,IF(T11="Automático",15,"")) | W11: =IF(V11="SI",15,IF(V11="NO",0,"")) | Z11: =IF(Y11="SI",10,IF(Y11="NO",0,"")) | AC11: =IF(AB11="SI",30,IF(AB11="NO",0,"")) | AJ11: =IF(AI11="SI",15,IF(AI11="NO",0,"")) | AM11: =IF(AL11="SI",5,IF(AL11="NO",0,"")) | AP11: =IF(AO11="Manual",10,IF(AO11="Automático",15,"")) | AR11: =IF(AQ11="SI",15,IF(AQ11="NO",0,"")) | AU11: =IF(AT11="SI",10,IF(AT11="NO",0,"")) | AX11: =IF(AW11="SI",30,IF(AW11="NO",0,"")) | BF11: 4
O12: =IF(N12="SI",15,IF(N12="NO",0,"")) | R12: =IF(Q12="SI",5,IF(Q12="NO",0,"")) | U12: =IF(T12="Manual",10,IF(T12="Automático",15,"")) | W12: =IF(V12="SI",15,IF(V12="NO",0,"")) | Z12: =IF(Y12="SI",10,IF(Y12="NO",0,"")) | AC12: =IF(AB12="SI",30,IF(AB12="NO",0,"")) | AJ12: =IF(AI12="SI",15,IF(AI12="NO",0,"")) | AM12: =IF(AL12="SI",5,IF(AL12="NO",0,"")) | AP12: =IF(AO12="Manual",10,IF(AO12="Automático",15,"")) | AR12: =IF(AQ12="SI",15,IF(AQ12="NO",0,"")) | AU12: =IF(AT12="SI",10,IF(AT12="NO",0,"")) | AX12: =IF(AW12="SI",30,IF(AW12="NO",0,"")) | BF12: 5
A13: Atención y servicio al cliente | B13: GESTIÓN Y CORRUPCIÓN | C13: 1. Desconocimiento de los requisitos propios de cada trámite 2. Falta de revisión de las etapas previas de cada trámite 3. Falta de claridad en las especificaciones de los requisitos para la gestión de los trámites 4. Desactualización de los requisitos de acuerdo a la normatividad vigente. 5. Intención de favorecer un tercero a cambio de un beneficio personal. | D13: RGC-3 | E13: Gestionar trámites con incumplimiento de requisitos o por fuera de oportunidad | F13: 1. Investigación disciplinaria 2. No conformidades mayores en el sistema de calidad 3. Afectación de la credibilidad e imagen institucional 4. Demandas | G13: Posible | H13: =IF(G13="","",VLOOKUP(G13,[1]Tablas!$A$2:$B$6,2,FALSE)) -> 3 | I13: Moderado | J13: =IF(I13="","",VLOOKUP(I13,[1]Tablas!$E$2:$F$6,2,FALSE)) -> 3 | K13: =IFERROR(VLOOKUP(L13,Tablas!$F$9:$G$22,2,FALSE),"") -> MEDIA | L13: =IFERROR(+H13*J13,"") -> 9 | M13: Revisión interna del cumplimiento de requisitos de cada trámite. | N13: NO | O13: =IF(N13="SI",15,IF(N13="NO",0,"")) -> 0 | P13: No está documentado | Q13: SI | R13: =IF(Q13="SI",5,IF(Q13="NO",0,"")) -> 5 | S13: Oficina de Planeación | T13: Manual | U13: =IF(T13="Manual",10,IF(T13="Automático",15,"")) -> 10 | V13: SI | W13: =IF(V13="SI",15,IF(V13="NO",0,"")) -> 15 | X13: Por demanda | Y13: SI | Z13: =IF(Y13="SI",10,IF(Y13="NO",0,"")) -> 10 | AA13: Registros aplicados al trámite | AB13: SI | AC13: =IF(AB13="SI",30,IF(AB13="NO",0,"")) -> 30 | AD13: =(MIN(O13:O17)+MIN(R13:R17)+MIN(U13:U17)+MIN(W13:W17)+MIN(Z13:Z17)+MIN(AC13:AC17)) -> 70 | AE13: =IF(AD13>=76,2,IF(AD13>=51,1,0)) -> 1 | AF13: =IF(AG13="","",VLOOKUP(AG13,Tablas!$B$2:$C$6,2,FALSE)) -> Improbable | AG13: =IFERROR(+H13-AE13,"") -> 2 | AJ13: =IF(AI13="SI",15,IF(AI13="NO",0,"")) | AM13: =IF(AL13="SI",5,IF(AL13="NO",0,"")) | AP13: =IF(AO13="Manual",10,IF(AO13="Automático",15,"")) | AR13: =IF(AQ13="SI",15,IF(AQ13="NO",0,"")) | AU13: =IF(AT13="SI",10,IF(AT13="NO",0,"")) | AX13: =IF(AW13="SI",30,IF(AW13="NO",0,"")) | AY13: =(MIN(AJ13:AJ17)+MIN(AM13:AM17)+MIN(AP13:AP17)+MIN(AR13:AR17)+MIN(AU13:AU17)+MIN(AX13:AX17)) -> 0 | AZ13: =IF(AY13>=76,2,IF(AY13>=51,1,0)) -> 0 | BA13: NO | BB13: =IF(BC13="","",VLOOKUP(BC13,Tablas!$F$2:$G$6,2,FALSE)) -> Moderado | BC13: =IFERROR(+J13-AZ13,"") -> 3 | BD13: =IFERROR(+BC13*AG13,"") -> 6 | BE13: =IFERROR(VLOOKUP(BD13,Tablas!$F$9:$G$22,2,FALSE),"") -> MEDIA | BF13: 1 | BG13: Documentar los trámites | BH13: Líder de cada trámite Planeación | BI13: 43466 | BJ13: 43800 | BK13: Documento metodológico
M14: Validar mensualmente que la información de la guía de trámites y el mapa callejero está actualizada. | N14: NO | O14: =IF(N14="SI",15,IF(N14="NO",0,"")) -> 0 | P14: No está documentado | Q14: SI | R14: =IF(Q14="SI",5,IF(Q14="NO",0,"")) -> 5 | S14: Oficina de Planeación | T14: Manual | U14: =IF(T14="Manual",10,IF(T14="Automático",15,"")) -> 10 | V14: SI | W14: =IF(V14="SI",15,IF(V14="NO",0,"")) -> 15 | X14: Mensual | Y14: SI | Z14: =IF(Y14="SI",10,IF(Y14="NO",0,"")) -> 10 | AA14: Certificado de confiabilidad de la información | AB14: SI | AC14: =IF(AB14="SI",30,IF(AB14="NO",0,"")) -> 30 | AJ14: =IF(AI14="SI",15,IF(AI14="NO",0,"")) | AM14: =IF(AL14="SI",5,IF(AL14="NO",0,"")) | AP14: =IF(AO14="Manual",10,IF(AO14="Automático",15,"")) | AR14: =IF(AQ14="SI",15,IF(AQ14="NO",0,"")) | AU14: =IF(AT14="SI",10,IF(AT14="NO",0,"")) | AX14: =IF(AW14="SI",30,IF(AW14="NO",0,"")) | BF14: 2 | BG14: Documentar el proceso de racionalización y gestión de trámites donde se puedan establecer los criterios y lineamientos de los controles. | BH14: Atención al cliente Planeación | BI14: 43466 | BJ14: 43800 | BK14: Documento metodológico
O15: =IF(N15="SI",15,IF(N15="NO",0,"")) | R15: =IF(Q15="SI",5,IF(Q15="NO",0,"")) | U15: =IF(T15="Manual",10,IF(T15="Automático",15,"")) | W15: =IF(V15="SI",15,IF(V15="NO",0,"")) | Z15: =IF(Y15="SI",10,IF(Y15="NO",0,"")) | AC15: =IF(AB15="SI",30,IF(AB15="NO",0,"")) | AJ15: =IF(AI15="SI",15,IF(AI15="NO",0,"")) | AM15: =IF(AL15="SI",5,IF(AL15="NO",0,"")) | AP15: =IF(AO15="Manual",10,IF(AO15="Automático",15,"")) | AR15: =IF(AQ15="SI",15,IF(AQ15="NO",0,"")) | AU15: =IF(AT15="SI",10,IF(AT15="NO",0,"")) | AX15: =IF(AW15="SI",30,IF(AW15="NO",0,"")) | BF15: 3 | BG15: Capacitar al personal de atención al cliente sobre los requisitos y procedimientos internos para la gestión de cada trámite. | BH15: Líder de cada trámite | BI15: 43466 | BJ15: 43800 | BK15: Lista de asistencia Material de capacitación
O16: =IF(N16="SI",15,IF(N16="NO",0,"")) | R16: =IF(Q16="SI",5,IF(Q16="NO",0,"")) | U16: =IF(T16="Manual",10,IF(T16="Automático",15,"")) | W16: =IF(V16="SI",15,IF(V16="NO",0,"")) | Z16: =IF(Y16="SI",10,IF(Y16="NO",0,"")) | AC16: =IF(AB16="SI",30,IF(AB16="NO",0,"")) | AJ16: =IF(AI16="SI",15,IF(AI16="NO",0,"")) | AM16: =IF(AL16="SI",5,IF(AL16="NO",0,"")) | AP16: =IF(AO16="Manual",10,IF(AO16="Automático",15,"")) | AR16: =IF(AQ16="SI",15,IF(AQ16="NO",0,"")) | AU16: =IF(AT16="SI",10,IF(AT16="NO",0,"")) | AX16: =IF(AW16="SI",30,IF(AW16="NO",0,"")) | BF16: 4
O17: =IF(N17="SI",15,IF(N17="NO",0,"")) | R17: =IF(Q17="SI",5,IF(Q17="NO",0,"")) | U17: =IF(T17="Manual",10,IF(T17="Automático",15,"")) | W17: =IF(V17="SI",15,IF(V17="NO",0,"")) | Z17: =IF(Y17="SI",10,IF(Y17="NO",0,"")) | AC17: =IF(AB17="SI",30,IF(AB17="NO",0,"")) | AJ17: =IF(AI17="SI",15,IF(AI17="NO",0,"")) | AM17: =IF(AL17="SI",5,IF(AL17="NO",0,"")) | AP17: =IF(AO17="Manual",10,IF(AO17="Automático",15,"")) | AR17: =IF(AQ17="SI",15,IF(AQ17="NO",0,"")) | AU17: =IF(AT17="SI",10,IF(AT17="NO",0,"")) | AX17: =IF(AW17="SI",30,IF(AW17="NO",0,"")) | BF17: 5

Sheet Tablas
A1: Probabilidad | E1: Impacto | I1: Estadístico | M1: 1
A2: Casi seguro | B2: 5 | C2: =+A2 -> Casi seguro | E2: Catastrófico | F2: 5 | G2: =+E2 -> Catastrófico | I2: Más 1 vez año | J2: 5 | K2: =+I2 -> Más 1 vez año | M2: 2
A3: Probable | B3: 4 | C3: =+A3 -> Probable | E3: Mayor | F3: 4 | G3: =+E3 -> Mayor | I3: 1 vez en el último año | J3: 4 | K3: =+I3 -> 1 vez en el último año | M3: 3
A4: Posible | B4: 3 | C4: =+A4 -> Posible | E4: Moderado | F4: 3 | G4: =+E4 -> Moderado | I4: 1 vez en el últimos 2 años | J4: 3 | K4: =+I4 -> 1 vez en el últimos 2 años | M4: 4
A5: Improbable | B5: 2 | C5: =+A5 -> Improbable | E5: Menor | F5: 2 | G5: =+E5 -> Menor | I5: 1 vez en el últimos 5 años | J5: 2 | K5: =+I5 -> 1 vez en el últimos 5 años | M5: 5
A6: Excepcional | B6: 1 | C6: =+A6 -> Excepcional | E6: Insignificante | F6: 1 | G6: =+E6 -> Insignificante | I6: no se ha presentado en los últimos 5 años | J6: 1 | K6: =+I6 -> no se ha presentado en los últimos 5 años | M6: 6
M7: 7
A8: Descriptores | M8: 8
A9: MUY BUENO | B9: 1 | C9: =+A9 -> MUY BUENO | F9: 1 | G9: BAJA | I9: Atención y servicio al cliente | M9: 9
A10: POR MEJORAR | B10: 3 | C10: =+A10 -> POR MEJORAR | F10: 2 | G10: BAJA | I10: Control, inspección y fiscalización | M10: 10
A11: A INTERVENIR | B11: 5 | C11: =+A11 -> A INTERVENIR | F11: 3 | G11: MEDIA | I11: Desarrollo e innovación | M11: 11
F12: 4 | G12: MEDIA | I12: Evaluación y mejora | M12: 12
A13: Descriptores | F13: 5 | G13: MEDIA | I13: Explotación de JSA | M13: 13
A14: ALTO | B14: 5 | C14: =+A14 -> ALTO | F14: 6 | G14: MEDIA | I14: Gestión de bienes y servicios | M14: 14
A15: MEDIO | B15: 3 | C15: =+A15 -> MEDIO | F15: 8 | G15: MEDIA | I15: Gestión de comunicaciones | M15: 15
A16: BAJO | B16: 1 | C16: =+A16 -> BAJO | F16: 9 | G16: MEDIA | I16: Gestión de las tecnologías y la información | M16: 16
F17: 10 | G17: MEDIA | I17: Gestión del conocimiento | M17: 17
F18: 12 | G18: MEDIA | I18: Gestión del talento humano | M18: 18
F19: 15 | G19: ALTA | I19: Gestión financiera y contable
F20: 16 | G20: ALTA | I20: Gestión jurídica
F21: 20 | G21: ALTA | I21: Planeación y Direccionamiento Estratégico
F22: 25 | G22: ALTA | I22: Recaudo

Sheet CONTROL INSPE Y FISCA
G1: RIESGO INHERENTE | M1: Valoración Riesgo Residual (Probabilidad) | AH1: Valoración Riesgo Residual (impacto) | BD1: Valor Riesgo Residual | BF1: PLAN DE TRATAMIENTO
A2: Proceso | B2: Clase | C2: Causas | D2: Riesgo | F2: Consecuencia | G2: Probabilidad | I2: Impacto | K2: Valor del Riesgo | M2: Controles preventivos | N2: Documento | Q2: Responsable | T2: Tipo (M/A) | V2: Fercuencia (Adecuada) | Y2: Evidencia | AB2: Efectividad | AD2: Valor Control | AE2: Puntos | AF2: Probabilidad | AG2: VP | AH2: Controles Correctivos | AI2: Documento | AL2: Responsable | AO2: Tipo (M/A) | AQ2: Fercuencia (Adecuada) | AT2: Evidencia | AW2: Efectividad | AY2: Valor Control | AZ2: Puntos | BA2: Objetivo Estratégico | BB2: Impacto | BC2: VI | BD2: V.Riesgo Actual | BE2: Z. Riesgo Actual | BF2: Acción | BH2: Responsable | BI2: Fecha Inicio | BJ2: Fecha Fin | BK2: Entregable
A3: Control, inspección y fiscalización | B3: GESTIÓN Y CORRUPCIÓN | C3: 1. Transferencias por fuera de los terminos legales 2. Información incompleta por parte del concesionario en el momento de las visitas de fiscalización 3. Falta cumplimiento, alcance y profundidad de los controles de fiscalización 4. Herramientas tecnológicas insificientes para la supervisión y fiscalización del contrato. 5. Insuficiencia y/o falta de competencia en el personal involucrado. 6. Ofrecimiento de beneficios por parte de terceros. 7. Informes de supérvisión con conclusiones sesgadas. 8. Desconocimiento o interpretación errada de las obligaciones contratuales por parte del operador. | D3: RGC-4 | E3: Incumplimiento de las obligaciones del concesionario de apuestas permanentes o chance durante la ejecución del contrato de cocesión. | F3: 1. Liquidación del contarto 2. Procesos sancionatorios 3. Hallazgos de entes de control con incidencia fiscal, disciplinaria y penal 4. Disminución recursos para la salud | G3: Probable | H3: 4 | I3: Mayor | J3: 4 | K3: ALTA | L3: 16 | M3: Visitas de fiscalización e inspección al concesionario | N3: NO | O3: 0 | P3: No está documentado | Q3: SI | R3: 5 | S3: Unidad de Apuestas permanentes | T3: Manual | U3: 10 | V3: SI | W3: 15 | X3: Trimestral | Y3: SI | Z3: 10 | AA3: Informe de fiscalización e inspección | AB3: SI | AC3: 30 | AD3: 70 | AE3: 1 | AF3: Posible | AG3: 3 | AH3: Proceso requerimiento al concesionario producto de los hallazgos de los informes | AI3: SI | AJ3: 15 | AK3: Procedimiento Control de Juegos de Suerte y Azar | AL3: SI | AM3: 5 | AN3: Unidad de Apuestas Permanentes | AO3: Manual | AP3: 10 | AQ3: SI | AR3: 15 | AS3: Por demanda | AT3: SI | AU3: 10 | AV3: Oficio de requerimiento | AW3: SI | AX3: 30 | AY3: 85 | AZ3: 2 | BA3: SI | BB3: Menor | BC3: 2 | BD3: 6 | BE3: MEDIA | BF3: 1 | BG3: Definir, documentar y aprobar los lineamientos y criterios para ejecutar las visitas de fiscalización e inspección al igual que la verifocación del juego en línea. | BH3: Subgerente General Unidad de Apuestas permanentes | BI3: 43466 | BJ3: 43800 | BK3: Documento metodológico
M4: Verificación del juego en línea. | N4: NO | O4: 0 | P4: No está documentado | Q4: SI | R4: 5 | S4: Unidad de Apuestas permanentes | T4: Manual | U4: 10 | V4: SI | W4: 15 | X4: Bimestral | Y4: SI | Z4: 10 | AA4: Informe de verificación de juego en línea | AB4: SI | AC4: 30 | BF4: 2 | BG4: Desarrollo y actualización de la plataforma tecnológica de control del juego con el propósito de aumentar la seguridad y mejorar el manejo de la información a través de la minería de datos | BH4: Área de Tecnología Unidad de Apuestas Permanentes | BI4: 43466 | BJ4: 43800 | BK4: Herramienta tecnológica
BF5: 3 | BG5: Capacitar al personal de la Unidad de Apuestas sobre ñlas ventajas, funcionalidades y reportes de la herramienta tecnológica. | BH5: Área de Tecnología | BI5: 43466 | BJ5: 43800 | BK5: Listas de asistencia
BF6: 4
BF7: 5
A8: Control, inspección y fiscalización | B8: GESTIÓN Y CORRPCIÓN | C8: 1. No realización de visitas de control, inspeccion y vigilancia. 2. Bajo nivel de operativos de control al juego ilegal 3. Operativos de control con poca eficacia: Filtración de información por parte de funcionarios a terceros sobre los operativos de control. 4. Mayor ganacia para los apostadores en el juego ilegal. 5. Debilidades en el proceso penal frente al delito. | D8: RGC-5 | E8: Aumento del juego ilegal | F8: 1. Credibilidad y trasparencia del sector 2. Disminución de las ventas de chance y lotería: Disminución de recursos para la salud. | G8: Probable | H8: 4 | I8: Mayor | J8: 4 | K8: ALTA | L8: 16 | M8: Controles al juego ilegal definidos contractualmente con el concesionario (Anexo control juego ilegal). | N8: SI | O8: 15 | P8: Anexo del contrato de concesión | Q8: SI | R8: 5 | S8: Cocesionario Lotería: Supervisor del contrato Subgerencia General Apoyo: Unidad de Apuestas | T8: Manual | U8: 10 | V8: SI | W8: 15 | X8: Mensual | Y8: SI | Z8: 10 | AA8: Informe actividades desarrolladas contra el juego ilegal | AB8: SI | AC8: 30 | AD8: 85 | AE8: 2 | AF8: Improbable | AG8: 2 | AH8: Convenio inter administrativo con la Policia Nacional: Operativos de control | AI8: SI | AJ8: 15 | AK8: Convenio | AL8: SI | AM8: 5 | AN8: Policia Nacional Unidad de Apuestas | AO8: Manual | AP8: 10 | AQ8: SI | AR8: 15 | AS8: Por demanda | AT8: SI | AU8: 10 | AV8: Informes de los operativos Acta de reuniones de seguimiento | AW8: SI | AX8: 30 | AY8: 85 | AZ8: 2 | BA8: SI | BB8: Menor | BC8: 2 | BD8: 4 | BE8: MEDIA | BF8: 1 | BG8: NA | BH8: NA | BI8: NA | BJ8: NA | BK8: NA
AH9: Controles al juego ilegal definidos contractualmente con el concesionario (Anexo control juego ilegal). | AI9: SI | AJ9: 15 | AK9: Anexo del contrato de concesión | AL9: SI | AM9: 5 | AN9: Cocesionario Lotería: Supervisor del contrato Subgerencia General Apoyo: Unidad de Apuestas | AO9: Manual | AP9: 10 | AQ9: SI | AR9: 15 | AS9: Mensual | AT9: SI | AU9: 10 | AV9: Informe actividades desarrolladas contra el juego ilegal | AW9: SI | AX9: 30 | BF9: 2
BF10: 3
BF11: 4
BF12: 5
AD13: 0 | AE13: 0 | AY13: 0 | AZ13: 0 | BF13: 1
BF14: 2
BF15: 3
BF16: 4
BF17: 5
AD18: 0 | AE18: 0 | AY18: 0 | AZ18: 0 | BF18: 1
BF19: 2
BF20: 3
BF21: 4
BF22: 5
AD23: 0 | AE23: 0 | AY23: 0 | AZ23: 0 | BF23: 1
BF24: 2
BF25: 3
BF26: 4
BF27: 5
AD28: 0 | AE28: 0 | AY28: 0 | AZ28: 0 | BF28: 1
BF29: 2
BF30: 3
BF31: 4
BF32: 5
AD33: 0 | AE33: 0 | AY33: 0 | AZ33: 0 | BF33: 1
BF34: 2
BF35: 3
BF36: 4
BF37: 5
AD38: 0 | AE38: 0 | AY38: 0 | AZ38: 0 | BF38: 1
BF39: 2
BF40: 3
...

Sheet Evaluación y mejora
G1: RIESGO INHERENTE | M1: Valoración Riesgo Residual (Probabilidad) | AH1: Valoración Riesgo Residual (impacto) | BD1: Valor Riesgo Residual | BF1: PLAN DE TRATAMIENTO
A2: Proceso | B2: Clase | C2: Causas | D2: Riesgo | F2: Consecuencia | G2: Probabilidad | I2: Impacto | K2: Valor del Riesgo | M2: Controles preventivos | N2: Documento | Q2: Responsable | T2: Tipo (M/A) | V2: Fercuencia (Adecuada) | Y2: Evidencia | AB2: Efectividad | AD2: Valor Control | AE2: Puntos | AF2: Probabilidad | AG2: VP | AH2: Controles Correctivos | AI2: Documento | AL2: Responsable | AO2: Tipo (M/A) | AQ2: Fercuencia (Adecuada) | AT2: Evidencia | AW2: Efectividad | AY2: Valor Control | AZ2: Puntos | BA2: Objetivo Estratégico | BB2: Impacto | BC2: VI | BD2: V.Riesgo Actual | BE2: Z. Riesgo Actual | BF2: Acción | BH2: Responsable | BI2: Fecha Inicio | BJ2: Fecha Fin | BK2: Entregable
A3: Evaluación y mejora | B3: GESTIÓN | C3: 1. Omisión, inconsistencia o inoportunidad en la entrega de información 2. Inadecuada interpretación de la información por parte del auditor 3. Conocimiento insuficiente de los proceso por parte del auditor. | D3: RGC-6 | E3: Opinión de auditoría inapropiada | F3: 1. Afectación de la credibilidad respecto de la labor de la OCI 2. Inconsistencia de las recomendaciones 3. Incumplimiento de propósitos de la Auditoría | G3: Casi seguro | H3: 5 | I3: Mayor | J3: 4 | K3: ALTA | L3: 20 | M3: Revisión de las observaciones planteadas por el auditor en el ejercicio de auditoría | N3: SI | O3: 15 | P3: Procedimiento Auditoría Interna | Q3: SI | R3: 5 | S3: Jefe Control Interno | T3: Manual | U3: 10 | V3: SI | W3: 15 | X3: Por cada auditoría | Y3: SI | Z3: 10 | AA3: Correos internos de revisión | AB3: SI | AC3: 30 | AD3: 85 | AE3: 2 | AF3: Posible | AG3: 3 | AH3: Validación de las observaciones de la auditoría por parte de los responsables de los procesos auditados. | AI3: SI | AJ3: 15 | AK3: Procedimiento Auditoría Interna | AL3: SI | AM3: 5 | AN3: Jefe Control Interno | AO3: Manual | AP3: 10 | AQ3: SI | AR3: 15 | AS3: Por cada auditoría | AT3: SI | AU3: 10 | AV3: Formato comunicación de observaciones Acta de reunión | AW3: SI | AX3: 30 | AY3: 85 | AZ3: 2 | BA3: SI | BB3: Menor | BC3: 2 | BD3: 6 | BE3: MEDIA | BF3: 1 | BG3: Actualizar el procedimiento de auditoría con el fin de fortalecer la descripción y criterios de los controles mencionados. | BH3: Oficina Control Interno | BI3: 43466 | BJ3: 43800 | BK3: Procedimiento actualizado
M4: Validación de las observaciones de la auditoría por parte de los responsables de los procesos auditados. | N4: SI | O4: 15 | P4: Procedimiento Auditoría Interna | Q4: SI | R4: 5 | S4: Jefe Control Interno | T4: Manual | U4: 10 | V4: SI | W4: 15 | X4: Por cada auditoría | Y4: SI | Z4: 10 | AA4: Formato comunicación de observaciones Acta de reunión | AB4: SI | AC4: 30 | BF4: 2
BF5: 3
BF6: 4
BF7: 5
A8: Evaluación y mejora | B8: GESTIÓN | C8: 1. Deficiencias en la planeación del PAA 2. Falta de recursos. 3. Falta de oportunidad en la entrega y calidad de la información solicitada en desarrollo del proceso auditor. 4. Falta de seguimiento y control. | D8: RGC-7 | E8: Incumplimiento del plan anual de auditoria. | F8: 1. Desgaste administrativo de la Oficina de Control Interno. 2. Incumplimiento de requisitos normativos. 3. Hallazgos de entes de control. | G8: Casi seguro | H8: 5 | I8: Mayor | J8: 4 | K8: ALTA | L8: 20 | M8: Suscripción de la Carta de representación por parte del líder del proceso auditado | N8: SI | O8: 15 | P8: Procedimiento Auditoría Interna | Q8: SI | R8: 5 | S8: Líder Auditado | T8: Manual | U8: 10 | V8: SI | W8: 15 | X8: Por cada auditoría | Y8: SI | Z8: 10 | AA8: Carta de Representación | AB8: SI | AC8: 30 | AD8: 85 | AE8: 2 | AF8: Posible | AG8: 3 | AH8: Presentación de reportes de seguimiento y control al plan anual de auditoría | AI8: NO | AJ8: 0 | AK8: No está documentado | AL8: SI | AM8: 5 | AN8: Comité Institucional de Coordinación de Control Interno - CICCI | AO8: Manual | AP8: 10 | AQ8: SI | AR8: 15 | AS8: Semestral | AT8: SI | AU8: 10 | AV8: Informe de seguimiento | AW8: SI | AX8: 30 | AY8: 70 | AZ8: 1 | BA8: NO | BB8: Moderado | BC8: 3 | BD8: 9 | BE8: MEDIA | BF8: 1 | BG8: Actualizar el procedimiento de Programa anual de auditoría con el fin de incorporar las actividades y controles necesarios que describan el seguimiento (ajustes al plan) que se efectua a la implementación del plan. | BH8: Control Interno | BI8: 43466 | BJ8: 43800 | BK8: Procedimiento actualizado
M9: Priorizar los procesos a auditar de acuerdo a la gestiíon de riesgos y estado de planes de mejoramiento. | N9: SI | O9: 15 | P9: Procedimiento Programa anual de auditorías | Q9: SI | R9: 5 | S9: Control Interno | T9: Manual | U9: 10 | V9: SI | W9: 15 | X9: Anual | Y9: SI | Z9: 10 | AA9: Matriz de priorización de auditoría | AB9: SI | AC9: 30 | BF9: 2
M10: Revisión y aprobación del programa anual de auditoría por parte del Comité Institucional de Coordinación de Control Interno. | N10: SI | O10: 15 | P10: Procedimiento Programa anual de auditorías | Q10: SI | R10: 5 | S10: Comité Institucional de Coordinación de Control Interno - CICCI | T10: Manual | U10: 10 | V10: SI | W10: 15 | X10: Anual | Y10: SI | Z10: 10 | AA10: Plan anual de auditorías Acvta de comité | AB10: SI | AC10: 30 | BF10: 3
BF11: 4
BF12: 5
A13: Evaluación y mejora | B13: GESTIÓN | C13: 1. Omisión, inoportunidad o inconsistencia en la formulación de planes de mejoramiento 2. Falta de seguimiento por parte de líderes de proceso 3. deficiencias en el seguimiento a la gestión de planes de mejoramiento | D13: RGC-8 | E13: Materialización de riegos relacionados con observaciones de auditoría | F13: 1. Afectación en el cumplimiento de los objetivos insttucionales 2. Sanciones fiscales, administrativas y/o disciplinarias 3. Imposición de Sanciones fiscales 4. Daño patrimonial 5. Daño reputacional | G13: Probable | H13: 4 | I13: Mayor | J13: 4 | K13: ALTA | L13: 16 | M13: Análisis y pertinencia de las observaciones o hallazgos de auditoría | N13: SI | O13: 15 | P13: Procedimiento Gestión de planes de mejoramiento | Q13: SI | R13: 5 | S13: Líder del proceso Equipo Auditor | T13: Manual | U13: 10 | V13: SI | W13: 15 | X13: Por cada auditoría | Y13: SI | Z13: 10 | AA13: Acta de mesa de trabajo de comunicación de observaciones | AB13: SI | AC13: 30 | AD13: 85 | AE13: 2 | AF13: Improbable | AG13: 2 | AH13: Verificar las acciones del plan de mejoramiento de acuerdo a los lineamientos metodológicos definidos | AI13: SI | AJ13: 15 | AK13: Procedimiento Gestión de planes de mejoramiento | AL13: SI | AM13: 5 | AN13: Control Interno | AO13: Manual | AP13: 10 | AQ13: SI | AR13: 15 | AS13: Por cada plan de mejoramiento | AT13: SI | AU13: 10 | AV13: Formato revisión metodológica plan de mejoramiento | AW13: SI | AX13: 30 | AY13: 85 | AZ13: 2 | BB13: Menor | BC13: 2 | BD13: 4 | BE13: MEDIA | BF13: 1 | BG13: Actualizar el procedimiento de Plan de mejoramiento con el fin de estandarizar los registro y formatos aplicados. | BH13: Control Interno | BI13: 43466 | BJ13: 43800 | BK13: Procedimiento actualizado
M14: Suscripción de la Carta de representación por parte del líder del proceso auditado | N14: SI | O14: 15 | P14: Procedimiento Auditoría Interna | Q14: SI | R14: 5 | S14: Líder Auditado | T14: Manual | U14: 10 | V14: SI | W14: 15 | X14: Por cada auditoría | Y14: SI | Z14: 10 | AA14: Carta de Representación | AB14: SI | AC14: 30 | AH14: Realizar seguimiento a la implementación de las acciones del plan de mejoramiento y verificar la calidad de la información reportada y sus evidencias. | AI14: SI | AJ14: 15 | AK14: Procedimiento Gestión de planes de mejoramiento | AL14: SI | AM14: 5 | AN14: Control Interno | AO14: Manual | AP14: 10 | AQ14: SI | AR14: 15 | AS14: Por cada plan de mejoramiento | AT14: SI | AU14: 10 | AV14: Formato de seguimiento a planes de mejoramiento | AW14: SI | AX14: 30 | BF14: 2
M15: Verificar las acciones del plan de mejoramiento de acuerdo a los lineamientos metodológicos definidos | N15: SI | O15: 15 | P15: Procedimiento Gestión de planes de mejoramiento | Q15: SI | R15: 5 | S15: Control Interno | T15: Manual | U15: 10 | V15: SI | W15: 15 | X15: Por cada plan de mejoramiento | Y15: SI | Z15: 10 | AA15: Formato revisión metodológica plan de mejoramiento | AB15: SI | AC15: 30 | BF15: 3
M16: Realizar seguimiento a la implementación de las acciones del plan de mejoramiento y verificar la calidad de la información reportada y sus evidencias. | N16: SI | O16: 15 | P16: Procedimiento Gestión de planes de mejoramiento | Q16: SI | R16: 5 | S16: Control Interno | T16: Manual | U16: 10 | V16: SI | W16: 15 | X16: Por cada plan de mejoramiento | Y16: SI | Z16: 10 | AA16: Formato de seguimiento a planes de mejoramiento | AB16: SI | AC16: 30 | BF16: 4
BF17: 5
AD18: 0 | AE18: 0 | AY18: 0 | AZ18: 0 | BF18: 1
BF19: 2
BF20: 3
BF21: 4
BF22: 5
AD23: 0 | AE23: 0 | AY23: 0 | AZ23: 0 | BF23: 1
BF24: 2
BF25: 3
BF26: 4
BF27: 5
AD28: 0 | AE28: 0 | AY28: 0 | AZ28: 0 | BF28: 1
BF29: 2
BF30: 3
BF31: 4
BF32: 5
AD33: 0 | AE33: 0 | AY33: 0 | AZ33: 0 | BF33: 1
BF34: 2
BF35: 3
BF36: 4
BF37: 5
AD38: 0 | AE38: 0 | AY38: 0 | AZ38: 0 | BF38: 1
BF39: 2
BF40: 3
...

Sheet JSA CHANCE
G1: RIESGO INHERENTE | M1: Valoración Riesgo Residual (Probabilidad) | AH1: Valoración Riesgo Residual (impacto) | BE1: Valor Riesgo Residual | BG1: PLAN DE TRATAMIENTO
A2: Proceso | B2: Clase | C2: Causas | D2: Riesgo | F2: Consecuencia | G2: Probabilidad | I2: Impacto | K2: Valor del Riesgo | M2: Controles preventivos | N2: Documento | Q2: Responsable | T2: Tipo (M/A) | V2: Fercuencia (Adecuada) | Y2: Evidencia | AB2: Efectividad | AD2: Valor Control | AE2: Puntos | AF2: Probabilidad | AG2: VP | AH2: Controles Correctivos | AI2: Documento | AL2: Responsable | AO2: Tipo (M/A) | AQ2: Fercuencia (Adecuada) | AT2: Evidencia | AW2: Efectividad | AY2: Valor Control | AZ2: Puntos | BA2: # Preguntas con "SI" R. Corrupción | BB2: Objetivo Estratégico | BC2: Impacto | BD2: VI | BE2: V.Riesgo Actual | BF2: Z. Riesgo Actual | BG2: Acción | BI2: Responsable | BJ2: Fecha Inicio | BK2: Fecha Fin | BL2: Entregable
A3: Explotación de JSA | B3: GESTIÓN Y CORRUPCIÓN | C3: 1. Rigidez del marco normativo vigente. 2. Desconocimiento legal y normativo por parte Sector industrial y comercial de Bogotá y demás gestores. | D3: RGC-9 | E3: Disminución de solicitudes de promocionales y rifas | F3: 1. Disminución de los ingresos a la Lotería y transferencias al sector salud. | G3: Probable | H3: 4 | I3: Mayor | J3: 4 | K3: ALTA | L3: 16 | M3: Seguimiento permanente al cumplimiento en la proyección de ingresos. | N3: SI | O3: 15 | P3: Cuadro de mando estratégico | Q3: SI | R3: 5 | S3: Unidad de Apuestas y control de Juegos | T3: Manual | U3: 10 | V3: SI | W3: 15 | X3: Mensual | Y3: SI | Z3: 10 | AA3: Seguimiento cuando de mando integral | AB3: SI | AC3: 30 | AD3: 85 | AE3: 2 | AF3: Improbable | AG3: 2 | AH3: Comité Institucional de Gestión y Desempeño | AI3: SI | AJ3: 15 | AK3: Resolución 68 de 2018 | AL3: SI | AM3: 5 | AN3: Secretaria General | AO3: Manual | AP3: 10 | AQ3: SI | AR3: 15 | AS3: Trimestral | AT3: SI | AU3: 10 | AV3: Acta del Comité | AW3: SI | AX3: 30 | AY3: 85 | AZ3: 2 | BB3: SI | BC3: Menor | BD3: 2 | BE3: 4 | BF3: MEDIA | BG3: 1 | BH3: Actualizar e implementar actividades periódicas encaminadas a sensibilizar a los gestores de promicionales y rifas, sobre el marco normativo aplicable. | BI3: Unidad de Apuestas y Control de Juegos | BJ3: 43466 | BK3: 43800 | BL3: Informes de actividades
M4: Campañas de capacitación a la ciudadanía y sectores involucradas sobre el juego ilegal y el marco normativo de los promocionales y rifas. | N4: SI | O4: 15 | P4: Plan de acción 2018 | Q4: SI | R4: 5 | S4: Unidad de Apuestas y control de Juegos | T4: Manual | U4: 10 | V4: SI | W4: 15 | X4: Trimestral | Y4: SI | Z4: 10 | AA4: Listas de asistencia Piezas de comunicación | AB4: SI | AC4: 30 | BG4: 2
BG5: 3
BG6: 4
BG7: 5
A8: Explotación de JSA | B8: GESTIÓN Y CORRUPCIÓN | C8: 1. Falta de claridad, coherencia y objetividad de los estudios previos y pliego de condiciones. 2. Ausencia de rigorisidad en los controles en la evaluación y adjudicación del proceso licitatorio. 3. Ofrecimiento de dadibas en la adjudicación. 4. Presiones indebídas de terceros con poder político y/o económico. | D8: RGC-15 | E8: Contrato de cocesión para operar el chance con incumplimiento de requisitos | F8: 1. Demandas al proceso licitatorio. 2. Procesos disciplinarios, fiscales y penales. 3. No explotación del chance (Quedarse sin contrato). 4. Disminución de ingresos y transferencias a la salud. | G8: Probable | H8: 4 | I8: Catastrófico | J8: 5 | K8: ALTA | L8: 20 | M8: Revisar y aprobar los estudios, documentos y proyectos de pliegos de condiciones | N8: SI | O8: 15 | P8: Procedimiento de licitación | Q8: SI | R8: 5 | S8: Secretaria General | T8: Manual | U8: 10 | V8: SI | W8: 15 | X8: Cada 5 años y/o Por demanda | Y8: SI | Z8: 10 | AA8: Estudio y Documentos previos aprobados | AB8: SI | AC8: 30 | AD8: 70 | AE8: 1 | AF8: Posible | AG8: 3 | AH8: Grupo de control interno disciplinario | AI8: NO | AJ8: 0 | AK8: Resolución | AL8: SI | AM8: 5 | AN8: Secretaria General | AO8: Manual | AP8: 10 | AQ8: SI | AR8: 0 | AS8: Por demanda | AT8: SI | AU8: 0 | AV8: Expediente por cada caso | AW8: SI | AX8: 30 | AY8: 45 | AZ8: 0 | BB8: SI | BC8: Catastrófico | BD8: 5 | BE8: 15 | BF8: ALTA | BG8: 1 | BH8: Documentar y actualizar el procedimiento de licitación con el fin fortalecer y mejorar la descripción metodológica de todos los controles (Qué se revisa y verifica, criterios de aceptación y rechazo, lineamientos de revisión para disminuir posibles focos de corrupción). | BI8: Secretaria General | BJ8: 43466 | BK8: 43800 | BL8: Procedimiento actualizado
M9: Audiencia de aclaración del pliego de condiciones | N9: SI | O9: 15 | P9: Procedimiento de licitación | Q9: SI | R9: 5 | S9: Secretaria General | T9: Manual | U9: 10 | V9: SI | W9: 15 | X9: Cada 5 años y/o Por demanda | Y9: SI | Z9: 10 | AA9: Acta de audiencia | AB9: SI | AC9: 30 | AH9: Proceso de defensa judicial | AI9: SI | AJ9: 15 | AK9: Procedimiento Gestión Judicial | AL9: SI | AM9: 5 | AN9: Secretaria General | AO9: Manual | AP9: 10 | AQ9: SI | AR9: 15 | AS9: Por demanda | AT9: SI | AU9: 10 | AV9: Expediente por cada caso | AW9: SI | AX9: 30 | BG9: 2
M10: Invitación a los Entes de control en el acompañamiento del proceso licitatorio. | N10: NO | O10: 0 | P10: No está documentado | Q10: SI | R10: 5 | S10: Secretaria General | T10: Manual | U10: 10 | V10: SI | W10: 15 | X10: Cada 5 años y/o Por demanda | Y10: SI | Z10: 10 | AA10: Oficio de invitación | AB10: SI | AC10: 30 | BG10: 3
M11: Realizar de evaluación de propuestas, verificación de requisitos habilitantes, evaluación y preparación de propuestas. | N11: SI | O11: 15 | P11: Procedimiento de licitación | Q11: SI | R11: 5 | S11: Secretaria General | T11: Manual | U11: 10 | V11: SI | W11: 15 | X11: Cada 5 años y/o Por demanda | Y11: SI | Z11: 10 | AA11: Informe de evaluación | AB11: SI | AC11: 30 | BG11: 4
M12: Consultar en la lista o bases de datos de consulta de la ONU y Clinton el estado del proponente y su representate legal | N12: SI | O12: 15 | P12: Procedimiento de licitación | Q12: SI | S12: Unidad de Apuestas y control de Juegos | T12: Manual | U12: 10 | V12: SI | W12: 15 | X12: Cada 5 años y/o Por demanda | Y12: SI | AA12: Registro de consulta | AB12: SI | AC12: 30
M13: Realizar Audiencia de Adjudicación | N13: SI | O13: 15 | P13: Procedimiento de licitación | Q13: SI | R13: 5 | S13: Secretaria General | T13: Manual | U13: 10 | V13: SI | W13: 15 | X13: Cada 5 años y/o Por demanda | Y13: SI | AA13: Acta de audiencia Resolución de adjudicación | AB13: SI | AC13: 30
BG14: 5
A15: Explotación de JSA | B15: GESTIÓN Y CORRUPCIÓN | C15: 1. Ausencia de rigorisidad en los controles de los requisitos para el trámite. 2. Ofrecimiento de dadibas en el trámite. 4. Presiones indebídas de terceros. 5. Soportes del trámite incompletos, adulterados. | D15: RGC-14 | E15: Autorización de promocionales y rifas con incumplimieno de requisitos | F15: 1. Demandas al proceso. 2. Procesos disciplinarios, fiscales y penales. | G15: Posible | H15: 3 | I15: Mayor | J15: 4 | K15: MEDIA | L15: 12 | M15: Recibir, revisar y analizar los documentos suministrados por el solicitante y verificar el cumplimiento de los requisitos exigidos por la le | N15: NO | O15: 0 | P15: Procedimiento de autorización y emisión de conceptos. No están definidos los criterios de revisión. | Q15: SI | R15: 5 | S15: Unidad de Apuestas y control de Juegos | T15: Manual | U15: 10 | V15: SI | W15: 15 | X15: Por demanda | Y15: SI | Z15: 10 | AA15: Concepto de excepción o autorización | AB15: SI | AC15: 30 | AD15: 70 | AE15: 1 | AF15: Improbable | AG15: 2 | AH15: Grupo de control interno disciplinario | AI15: NO | AJ15: 0 | AK15: Resolución | AL15: SI | AM15: 5 | AN15: Secretaria General | AO15: Manual | AP15: 10 | AQ15: SI | AR15: 0 | AS15: Por demanda | AT15: SI | AU15: 0 | AV15: Expediente por cada caso | AW15: SI | AX15: 30 | AY15: 45 | AZ15: 0 | BB15: NO | BC15: Mayor | BD15: 4 | BE15: 8 | BF15: MEDIA | BG15: 1 | BH15: Actualizar y aprobar el procedimiento de autorización y emisión de concepto, con el fin de mejorar la descripción de los controles. Es necesario definir que se revisa por cada uno de los requisitos y cuales son los criterios de aceptación o rechazo. | BI15: Unidad de Apuestas y Control de Juegos | BJ15: 43466 | BK15: 43800 | BL15: Documento metodológico actualizado
AH16: Proceso de defensa judicial | AI16: SI | AJ16: 15 | AK16: Procedimiento Gestión Judicial | AL16: SI | AM16: 5 | AN16: Secretaria General | AO16: Manual | AP16: 10 | AQ16: SI | AR16: 15 | AS16: Por demanda | AT16: SI | AU16: 10 | AV16: Expediente por cada caso | AW16: SI | AX16: 30 | BG16: 2
BG17: 3
BG18: 4
BG19: 5
A20: Explotación de JSA | B20: GESTIÓN | C20: 1. Errores en el cálculo de los inventarios disponibles para le entrega inmediata 2. Demoras en la entrega de la firma impresora de los formularios 3. Demoras o negligencia interna en el trámite administrativo de facturación de formularios. | D20: RGC-16 | E20: Incumplimiento en la entrega de formularios para la operación del chance | F20: 1. Procesos disciplinarios, fiscales y penales. 2. Disminución de ingresos y transferencias a la salud. | G20: Posible | H20: 3 | I20: Mayor | J20: 4 | K20: MEDIA | L20: 12 | M20: Visitas a las instalaciones del impresor para verificar la existencia de los formularios. | N20: SI | O20: 15 | P20: Procedimeinto facturación instrumentos de juego | Q20: SI | R20: 5 | S20: Unidad de Apuestas y control de Juegos | T20: Manual | U20: 10 | V20: SI | W20: 15 | X20: Semestral | Y20: SI | Z20: 10 | AA20: Informe de visita | AB20: SI | AC20: 30 | AD20: 85 | AE20: 2 | AF20: Excepcional | AG20: 1 | AH20: Requerimientos al impresor en caso de presentarse alguna no conformidad. | AI20: SI | AJ20: 15 | AK20: Procedimeinto facturación instrumentos de juego | AL20: SI | AM20: 5 | AN20: Unidad de Apuestas y control de Juegos | AO20: Manual | AP20: 10 | AQ20: SI | AR20: 15 | AS20: Por evento | AT20: SI | AU20: 10 | AV20: Oficio de requerimiento | AW20: SI | AX20: 30 | AY20: 85 | AZ20: 2 | BB20: SI | BC20: Menor | BD20: 2 | BE20: 2 | BF20: BAJA | BG20: 1 | BH20: NA | BI20: NA | BJ20: NA | BK20: NA | BL20: NA
M21: Reporte del impresor sobre la producción semanal, para establecer alertas tempranas sobre el control de las existencias. | N21: SI | O21: 15 | P21: Procedimeinto facturación instrumentos de juego | Q21: SI | R21: 5 | S21: Unidad de Apuestas y control de Juegos | T21: Manual | U21: 10 | V21: SI | W21: 15 | X21: Semanal | Y21: SI | Z21: 10 | AA21: Correo electrónico | AB21: SI | AC21: 30 | BG21: 2
BG22: 3
BG23: 4
BG24: 5
A25: Explotación de JSA | B25: GESTIÓN | C25: 1. Desactualización del plan de contingencia del proceso del sorteo. 2. Fallas tecnológicas de las plataformas que intervienen. | D25: RGC-44 | E25: Fallas en la realización del sorteo de chance | F25: 1. Retrazos en la realización del sorteo. 2. Afectación de la credibilidad de la Entidad. 3. Sanciones por parte de los entes de control. | G25: Posible | H25: 3 | I25: Moderado | J25: 3 | K25: MEDIA | L25: 9 | M25: Elaboración, revisión y actualización del plan de contingencia | N25: NO | O25: 0 | P25: No está documentado | Q25: SI | R25: 5 | S25: Unidad de Apuestas y control de Juegos | T25: Manual | U25: 10 | V25: SI | W25: 15 | X25: Por cada sorteo | Y25: SI | Z25: 10 | AA25: Plan de contingencia | AB25: NO | AC25: 0 | AD25: 40 | AE25: 0 | AF25: Posible | AG25: 3 | AH25: Plan de contingencia | AI25: SI | AJ25: 15 | AK25: Plan de contingencia | AL25: SI | AM25: 5 | AN25: Unidad de Apuestas y control de Juegos | AO25: Manual | AP25: 10 | AQ25: SI | AR25: 15 | AS25: Por demanda | AT25: SI | AU25: 10 | AV25: Registros | AW25: SI | AX25: 30 | AY25: 85 | AZ25: 2 | BB25: NO | BC25: Insignificante | BD25: 1 | BE25: 3 | BF25: MEDIA | BG25: 1 | BH25: Definir y documentar los lineamientos que definen la manera en que re revisa y actualiza el plan de contingencia en Apuestas Permanentes | BI25: Unidad de Apuestas y Control de Juegos | BJ25: 43466 | BK25: 43800 | BL25: Documento metodológico
BG26: 2
BG27: 3
BG28: 4
BG29: 5
AD30: 0 | AE30: 0 | AY30: 0 | AZ30: 0 | BG30: 1
BG31: 2
BG32: 3
BG33: 4
BG34: 5

Sheet JSA LOTERIA
G1: RIESGO INHERENTE | M1: Valoración Riesgo Residual (Probabilidad) | AH1: Valoración Riesgo Residual (impacto) | BE1: Valor Riesgo Residual | BG1: PLAN DE TRATAMIENTO
A2: Proceso | B2: Clase | C2: Causas | D2: Riesgo | F2: Consecuencia | G2: Probabilidad | I2: Impacto | K2: Valor del Riesgo | M2: Controles preventivos | N2: Documento | Q2: Responsable | T2: Tipo (M/A) | V2: Fercuencia (Adecuada) | Y2: Evidencia | AB2: Efectividad | AD2: Valor Control | AE2: Puntos | AF2: Probabilidad | AG2: VP | AH2: Controles Correctivos | AI2: Documento | AL2: Responsable | AO2: Tipo (M/A) | AQ2: Fercuencia (Adecuada) | AT2: Evidencia | AW2: Efectividad | AY2: Valor Control | AZ2: Puntos | BA2: # Preguntas con "SI" R. Corrupción | BB2: Objetivo Estratégico | BC2: Impacto | BD2: VI | BE2: V.Riesgo Actual | BF2: Z. Riesgo Actual | BG2: Acción | BI2: Responsable | BJ2: Fecha Inicio | BK2: Fecha Fin | BL2: Entregable
A3: Explotación de JSA | B3: GESTIÓN Y CORRUPCIÓN | C3: 1.Inconsistencias en el reporte de retenidos generado semanalmente. 2. Estados de cuenta incorrectos o desactualizados 3. Criterios de control de garantías de distribuidores con vacios en responsabilidad y tiempo de vigencia. 4. No existen lineamientos sobre ausencias de personal en los controles de garantias. 5. Ofrecimiento de beneficios por parte de terceros | D3: RGC-10 | E3: Entrega o retención de billeteria a distribuidores con incumplimiento de requisitos. Nota: Se debe entender que el incumplimiento de requisitos incorpora los casos en los cuales se retiene erroneamente un despacho a un distribuidor que cumple con los requisitos. | F3: 1. Incremento de cartera vencida 2. Perdida de garantias en un cobro jurídico 3. Apertura de procesos disciplinarios 4. Hallazgos de entes de control | G3: Probable | H3: 4 | I3: Mayor | J3: 4 | K3: ALTA | L3: 16 | M3: Reporte semanal por parte de la Unidad Financiera y Contable de los distribuidotres retenidos. | N3: SI | O3: 15 | P3: Procedimiento Asiganación y distribución de billetería | Q3: SI | R3: 5 | S3: Unidad Financiera y Contable | T3: Manual | U3: 10 | V3: SI | W3: 15 | X3: Semanal | Y3: SI | Z3: 10 | AA3: Oficio semanal de retenidos | AB3: SI | AC3: 30 | AD3: 85 | AE3: 2 | AF3: Improbable | AG3: 2 | AH3: Realizar oficio con autorización de despacho cuando un distribuidor retenido cumple los requisitos. | AI3: SI | AJ3: 15 | AK3: No está documentado | AL3: SI | AM3: 5 | AN3: Unidad Financiera y Contable | AO3: Manual | AP3: 10 | AQ3: SI | AR3: 15 | AS3: Por demanda | AT3: SI | AU3: 10 | AV3: Oficio de comunicación | AW3: SI | AX3: 30 | AY3: 85 | AZ3: 2 | BB3: SI | BC3: Menor | BD3: 2 | BE3: 4 | BF3: MEDIA | BG3: 1 | BH3: Actualizar el procedimiento de Asiganación y distribución de billetería para fortalecer en descripción de criterios y lineamientos el control de retenidos e incorporar: 1. Control correctivo de autorización de despacho, 2. Concepto de la Secertaría General sobre el estado de las garantias de los distribuidores. | BI3: Unidad Lotería Secretaria General | BJ3: 43466 | BK3: 43800 | BL3: Documento metodológico
M4: Realizar autorización de despacho a la firma impresora. | N4: SI | O4: 15 | P4: Procedimiento Asiganación y distribución de billetería | Q4: SI | R4: 5 | S4: Unidad de Lotería | T4: Manual | U4: 10 | V4: SI | W4: 15 | X4: Semanal | Y4: SI | Z4: 10 | AA4: Correo Electrónico de despacho | AB4: SI | AC4: 30 | BG4: 2 | BH4: Analizar, definir y documentar los lineamientos claros del concepto semanal del estado de las ganatias por parte de la Secretaría General. Se debe incorporar lineamientos de responsabilidad, frecuencia, horario, medios, soporte en ausencias. Debe cambiarse el concepto de proporcionar un listado, por el de generar un concepto sobre el estado de las garantías con el fin que dentro de su campo y rol efectue un análisis y genere alertas sobre vencimientos. | BI4: Secretaría General Subgerencia Unidad Talento Humano | BJ4: 43466 | BK4: 43800 | BL4: Documento metodológico
BG5: 3
BG6: 4
BG7: 5
A8: Explotación de JSA | B8: GESTIÓN | C8: 1. Escasa inversión publicitaria °Plan de Premios poco competitivo 2. Insuficiente entendimiento del mercado 3. Inadecuada estructuración del plan de premios: El plan de premios no se ajusta a las expectativas y necesidades de los clientes. 4. Falta de seguimiento y análisis a la información de las la ejecución de las ventas. 5. Poco acceso a la información. | D8: RGC-11 | E8: Pérdida de mercado local de loterías / menores ventas de Lotería | F8: 1. Disminución en las transferencias al sector salud 2. Disminución de la rentabilidad del negocio 3. Disminución y/o ajustes presupuestales a los costos y gastos proyectados | G8: Probable | H8: 4 | I8: Moderado | J8: 3 | K8: MEDIA | L8: 12 | M8: Realización de un plan anual de mercadeo y comunicaciones (incentivos) | N8: SI | O8: 15 | P8: Procedimiento Elaboración Plan de mercadeo | Q8: SI | R8: 5 | S8: Subgerencia Comercial | T8: Manual | U8: 10 | V8: SI | W8: 15 | X8: Anual | Y8: SI | Z8: 10 | AA8: Plan de mercadeo | AB8: SI | AC8: 30 | AD8: 70 | AE8: 1 | AF8: Posible | AG8: 3 | AH8: Seguimiento semanal a la ejecición de ventas a través de los indicadores | AI8: SI | AJ8: 15 | AK8: Ficha técnica de indicadores | AL8: SI | AM8: 5 | AN8: Unidad de Lotería | AO8: Manual | AP8: 10 | AQ8: SI | AR8: 15 | AS8: Semanal | AT8: SI | AU8: 10 | AV8: Informe de resultados por sorteo Cuadro de mando | AW8: SI | AX8: 30 | AY8: 45 | AZ8: 0 | BB8: SI | BC8: Moderado | BD8: 3 | BE8: 9 | BF8: MEDIA | BG8: 1 | BH8: Actualizar y fortalecer el documento metodológico respectivo con el fin de incorporar las actividades y controles necesarios para describir los métodos y criterios por medio del cual la Lotería efectua el seguimiento y los ajustes al plan de premios y plan de mercadeo. | BI8: Subgerencia General | BJ8: 43466 | BK8: 43800 | BL8: Documento metodológico
M9: Revisión y actualización anual del plan de premios | N9: NO | O9: 0 | P9: No está documentado | Q9: SI | R9: 5 | S9: Gerencia General Subgerencia Comercial | T9: Manual | U9: 10 | V9: SI | W9: 15 | X9: Anual | Y9: SI | Z9: 10 | AA9: Plan de premios | AB9: SI | AC9: 30 | AH9: Revisión y ajuste del plan de mercadeo y del plan de premios | AI9: NO | AJ9: 0 | AK9: No está documentado | AL9: SI | AM9: 5 | AN9: Gerencia Subgerencia General | AO9: Manual | AP9: 10 | AQ9: NO | AR9: 0 | AS9: No está definida | AT9: NO | AU9: 0 | AV9: No se realizan modificaciones sobre el plan inicialmente aprobado | AW9: SI | AX9: 30 | BG9: 2 | BH9: Mejorar y documentar el análisis de la efectividad de las estrategias de mercado. | BI9: Subgerencia General | BJ9: 43466 | BK9: 43800 | BL9: Informe de análisis
M10: Seguimiento semanal a la ejecución de ventas a travész de los indicadpores | N10: SI | O10: 15 | P10: Ficha técnica de indicadores | Q10: SI | R10: 5 | S10: Unidad de Lotería | T10: Manual | U10: 10 | V10: SI | W10: 15 | X10: Semanal | Y10: SI | Z10: 10 | AA10: Informe de resultados por sorteo Cuadro de mando | AB10: SI | AC10: 30 | BG10: 3
BG11: 4
BG12: 5
A13: Explotación de JSA | B13: GESTIÓN Y CORRUPCIÓN | C13: 1. Perdida de los premios recibidos de los distribuidores. 2. Sustracción de los billetes ganadores. 3. Deficiencia en la seguridad física de la Unidad de Loterías. 4. Falta de camaras de seguridad. 5. Responsabilidad diluida de los funcionarios que intervienen. Existe una única responsabilidad, pero otros funcionarios intervienne en la manipualación de los billetes ganadores. 6. Ausencia y/o inconsistencias (soportes, falsificaciones) del registro que refleja la relación de premios que envia el distribuidor. 7. Inconsistencias en la recolección y entrega de los premios por parte de la transportadora. | D13: RGC-12 | E13: Inadecuado reconocimiento de premios | F13: 1. Estados de cuenta incorrectos 2. Apertura de procesos disciplinarios 3. Apertura de procesos penales | G13: Probable | H13: 4 | I13: Moderado | J13: 3 | K13: MEDIA | L13: 12 | M13: Control de recepción en la entrega de premios por parte de la transportadora. | N13: SI | O13: 15 | P13: Procedimiento Lectura de premios | Q13: SI | R13: 5 | S13: Unidad de Lotería | T13: Manual | U13: 10 | V13: SI | W13: 15 | X13: Semanal | Y13: SI | Z13: 10 | AA13: Base de datos aplicativpo Comercial Reporte de validación de premios | AB13: SI | AC13: 30 | AD13: 40 | AE13: 0 | AF13: Probable | AG13: 4 | AH13: Proceso de ajuste al reconocimiento de premios | AI13: NO | AJ13: 0 | AK13: No está documentado | AL13: SI | AM13: 5 | AN13: Unidad de Lotería | AO13: Manual | AP13: 10 | AQ13: SI | AR13: 15 | AS13: Por demanda | AT13: SI | AU13: 10 | AV13: Registro de ajuste | AW13: SI | AX13: 30 | AY13: 45 | AZ13: 0 | BB13: NO | BC13: Moderado | BD13: 3 | BE13: 12 | BF13: MEDIA | BG13: 1 | BH13: Actualizar y documentar el control de perforación de billetes en el procedimiento respectivo. | BI13: Unidad Lotería | BJ13: 43466 | BK13: 43800 | BL13: Documento metodológico
M14: Requerimiento al distribuidor en las inconsistencias detectadas, Copia a cartera | N14: SI | O14: 15 | P14: Procedimiento Lectura de premios | Q14: SI | R14: 5 | S14: Unidad de Lotería | T14: Manual | U14: 10 | V14: SI | W14: 15 | X14: Por demanda | Y14: SI | Z14: 10 | AA14: Oficio de requerimiento | AB14: SI | AC14: 30 | AH14: Grupo de control interno disciplinario | AI14: NO | AJ14: 0 | AK14: Resolución XXX | AL14: SI | AM14: 5 | AN14: Secretaria General | AO14: Manual | AP14: 10 | AQ14: NO | AR14: 0 | AS14: Por demanda | AT14: SI | AU14: 0 | AV14: Expediente por cada caso | AW14: SI | AX14: 30 | BG14: 2 | BH14: Definir y documentar los lineamientos sobre el uso, disposición y revisión del CCTV sobre el área protegida de unidad de lotería. | BI14: Subgerencia General | BJ14: 43466 | BK14: 43800 | BL14: Documento metodológico
M15: Apertura de bolsas de premios para realizar perforación. | N15: NO | O15: 0 | P15: No está documentado | Q15: SI | R15: 5 | S15: Unidad de Lotería | T15: Manual | U15: 10 | V15: SI | W15: 15 | X15: Semanal | Y15: SI | Z15: 10 | AA15: Billete perforado | AB15: SI | AC15: 30 | BG15: 3 | BH15: Realizar los ajustes y reubicaciones respectivas del CCTV en el área de Unidad de Loterías. | BI15: Unidad de Reecursos físicos | BJ15: 43466 | BK15: 43800 | BL15: NA
M16: Existe un CCTV para el ingreso a la loteria y 2 cámaras más para la unidad de Lotería. | N16: NO | O16: 0 | P16: No está documentado | Q16: SI | R16: 5 | S16: Unidad de Recursos Físicos | T16: Manual | U16: 10 | V16: SI | W16: 15 | X16: Permanente | Y16: SI | Z16: 10 | AA16: Disco duro del CCTV | AB16: NO | AC16: 0 | BG16: 4 | BH16: Documentar en el documento metodológico respectivo las actividades que describan y definan la manera en que se gestiona, controla y oficializa los ajustes al treconocimiento de premios. | BI16: Unidad Lotería | BJ16: 43466 | BK16: 43800 | BL16: Documento metodológico
BG17: 5 | BJ17: 43466 | BK17: 43800
